BEGIN:VCALENDAR
VERSION:2.0
PRODID:-//SOLIDARIOS - ECPv6.15.17.1//NONSGML v1.0//EN
CALSCALE:GREGORIAN
METHOD:PUBLISH
X-ORIGINAL-URL:https://www.solidarios.org.es
X-WR-CALDESC:Eventos para SOLIDARIOS
REFRESH-INTERVAL;VALUE=DURATION:PT1H
X-Robots-Tag:noindex
X-PUBLISHED-TTL:PT1H
BEGIN:VTIMEZONE
TZID:Europe/Madrid
BEGIN:DAYLIGHT
TZOFFSETFROM:+0100
TZOFFSETTO:+0200
TZNAME:CEST
DTSTART:20240331T010000
END:DAYLIGHT
BEGIN:STANDARD
TZOFFSETFROM:+0200
TZOFFSETTO:+0100
TZNAME:CET
DTSTART:20241027T010000
END:STANDARD
BEGIN:DAYLIGHT
TZOFFSETFROM:+0100
TZOFFSETTO:+0200
TZNAME:CEST
DTSTART:20250330T010000
END:DAYLIGHT
BEGIN:STANDARD
TZOFFSETFROM:+0200
TZOFFSETTO:+0100
TZNAME:CET
DTSTART:20251026T010000
END:STANDARD
BEGIN:DAYLIGHT
TZOFFSETFROM:+0100
TZOFFSETTO:+0200
TZNAME:CEST
DTSTART:20260329T010000
END:DAYLIGHT
BEGIN:STANDARD
TZOFFSETFROM:+0200
TZOFFSETTO:+0100
TZNAME:CET
DTSTART:20261025T010000
END:STANDARD
END:VTIMEZONE
BEGIN:VEVENT
DTSTART;TZID=Europe/Madrid:20250219T170000
DTEND;TZID=Europe/Madrid:20250219T200000
DTSTAMP:20260424T103132
CREATED:20250217T131923Z
LAST-MODIFIED:20250217T132028Z
UID:14320-1739984400-1739995200@www.solidarios.org.es
SUMMARY:Estigma y exclusión social: causas y consecuencias.
DESCRIPTION:Sobre las personas que sufren exclusión social recae un estigma vinculado a su situación que produce un impacto negativo en la percepción social colectiva y en la propia autoimagen de la persona excluida. Este estigma realimenta las causas que originan la exclusión y cierra las alternativas que como sociedad ofrecemos para la reintegración. Llega incluso a determinar aspectos tan relevantes como el diseño de los recursos o servicios sociales y el alcance y éxito que puedan lograr.  \n\nEntender el alcance del estigma en relación a la exclusión social. \nDotar al voluntariado social de herramientas para combatir prejuicios y estereotipos.\nComprender el impacto que produce\, a nivel psicológico el estigma en la persona excluida.\nValora la importancia de combatir el estigma en la acción voluntaria\n\n«Estigma y exclusión social: causas y consecuencias«.\n19 de febrero 17:00 – 20:00 h.  \nInscripción: Si eres voluntario/a de Solidarios este curso es gratis para ti y hay una reserva de plazas. \nSon dos pasos: \n1. Tienes que darte de alta como usuario en la web de La Casa Encendida siguiendo los pasos especificados aquí.  \n2. Una vez estés dado de alta en ese registro tendrás que inscribirte en el curso específico de La Casa Encendida. \nSi tienes algún problema puedes escribirnos a jsandin@solidarios.org.es \n¡Te esperamos! \nLugar: La Casa Encendida \nImpartido por: Ana Isabel Guillén y Silvia García\, docentes vinculadas a la cátedra de estigma de la Universidad Complutense de Madrid. Coordinado por el equipo de Solidarios.
URL:https://www.solidarios.org.es/curso/estigma-y-exclusion-social-causas-y-consecuencias
CATEGORIES:Madrid
END:VEVENT
BEGIN:VEVENT
DTSTART;TZID=Europe/Madrid:20250219T180000
DTEND;TZID=Europe/Madrid:20250219T200000
DTSTAMP:20260424T103132
CREATED:20250217T152943Z
LAST-MODIFIED:20250217T153303Z
UID:14325-1739988000-1739995200@www.solidarios.org.es
SUMMARY:La cultura como herramienta de transformación personal y social.
DESCRIPTION:Esta formación nos acerca inicialmente\, de forma teórica\, a cómo el arte es utilizado como herramienta de transformación social. Posteriormente\, utilizando como muestra la experiencia de la recuperación de la historia del barrio Guadalquivir en Córdoba\, nos mostrará dos productos artísticos:  un libro de fotos y un documental. Esta experiencia de trabajo nos sirve para realizar nuevas proyecciones para los programas de voluntariado que realizamos. \n“La cultura como herramienta de transformación personal y social.»\n19 de febrero 18:00 h. \nInscripción: mvazquez@solidarios.org.es \nLugar: Fundación Mas.  \nImpartido por: Rocío Vela\, Doctora en Desarrollo Inclusivo y Sostenible\, Trabajadora Social\, Licenciada en Antropología Social y Cultural\, Máster en Derechos Humanos\, Interculturalidad y Desarrollo. Investigadora y profesora en la Universidad Loyola Andalucía. \n 
URL:https://www.solidarios.org.es/curso/la-cultura-como-herramienta-de-transformacion-personal-y-social
CATEGORIES:Sevilla
END:VEVENT
END:VCALENDAR