BEGIN:VCALENDAR
VERSION:2.0
PRODID:-//SOLIDARIOS - ECPv6.15.17.1//NONSGML v1.0//EN
CALSCALE:GREGORIAN
METHOD:PUBLISH
X-WR-CALNAME:SOLIDARIOS
X-ORIGINAL-URL:https://www.solidarios.org.es
X-WR-CALDESC:Eventos para SOLIDARIOS
REFRESH-INTERVAL;VALUE=DURATION:PT1H
X-Robots-Tag:noindex
X-PUBLISHED-TTL:PT1H
BEGIN:VTIMEZONE
TZID:Europe/Madrid
BEGIN:DAYLIGHT
TZOFFSETFROM:+0100
TZOFFSETTO:+0200
TZNAME:CEST
DTSTART:20240331T010000
END:DAYLIGHT
BEGIN:STANDARD
TZOFFSETFROM:+0200
TZOFFSETTO:+0100
TZNAME:CET
DTSTART:20241027T010000
END:STANDARD
BEGIN:DAYLIGHT
TZOFFSETFROM:+0100
TZOFFSETTO:+0200
TZNAME:CEST
DTSTART:20250330T010000
END:DAYLIGHT
BEGIN:STANDARD
TZOFFSETFROM:+0200
TZOFFSETTO:+0100
TZNAME:CET
DTSTART:20251026T010000
END:STANDARD
BEGIN:DAYLIGHT
TZOFFSETFROM:+0100
TZOFFSETTO:+0200
TZNAME:CEST
DTSTART:20260329T010000
END:DAYLIGHT
BEGIN:STANDARD
TZOFFSETFROM:+0200
TZOFFSETTO:+0100
TZNAME:CET
DTSTART:20261025T010000
END:STANDARD
END:VTIMEZONE
BEGIN:VEVENT
DTSTART;TZID=Europe/Madrid:20250327T180000
DTEND;TZID=Europe/Madrid:20250327T193000
DTSTAMP:20260423T120115
CREATED:20250312T133213Z
LAST-MODIFIED:20250312T133213Z
UID:14421-1743098400-1743103800@www.solidarios.org.es
SUMMARY:Cómo acompañar en procesos de duelo
DESCRIPTION:Dirigido al voluntariado de Solidarios y abierto a la ciudadanía en general. La tarea de mucha personas voluntarias – en los diferentes programas: mayores\, prisiones\, salud mental o sin hogar- consiste en escuchar y acompañar en momentos de soledad a personas que se encuentran en un proceso de duelo. En este curso encontrarán algunas claves para hacer más llevadera esa carga y ser más útil en su acompañamiento. \n“Cómo acompañar en procesos de duelo»\n27 de marzo 18:00 h. \nInscripción: murcia2@solidarios.org.es \nFormulario de inscripción aquí \nLugar: Aula 2.9. Edificio Rector Sabater (Universidad de Murcia) \nImpartido por: Eugenia Varea\, trabajadora social del SEMAS. Profesora asociada en la Universidad de Murcia. Colaboradora en grupos de duelo del Teléfono de la Esperanza.
URL:https://www.solidarios.org.es/curso/como-acompanar-en-procesos-de-duelo
CATEGORIES:Murcia
END:VEVENT
END:VCALENDAR